Workbook

Sheet Ritten
B2: Ritten 2026
B6: DATUM | C6: 46081 | D6: 46081 | E6: 46088 | F6: 46088 | G6: 46095 | H6: 46102 | I6: 46109 | J6: 46111 | K6: 46116 | L6: 46118 | M6: 46118 | N6: 46123 | O6: 46125 | P6: 46125 | Q6: 46130 | R6: 46132 | S6: 25/pril | T6: 46139 | U6: 46139 | V6: 46143 | W6: 46144 | X6: 46146 | Y6: 46146 | Z6: 46151 | AA6: 46153 | AB6: 46158 | AC6: 46160 | AD6: 46165 | AE6: 46167 | AF6: 46167 | AG6: 46172 | AH6: 46172 | AI6: 46174 | AJ6: 46174 | AK6: 46179 | AL6: 46181 | AM6: 46186 | AN6: 46186 | AO6: 46188 | AP6: 46193 | AQ6: 46195 | AR6: 46195 | AS6: 46200 | AT6: 46207 | AU6: 46209 | AV6: 46214 | AW6: 46216 | AX6: 46221 | AY6: 46221 | AZ6: 46223 | BA6: 46224 | BB6: 46228 | BC6: 46228 | BD6: 46230 | BE6: 46230 | BF6: 46235 | BG6: 46235 | BH6: 46237 | BI6: 46242 | BJ6: 46244 | BK6: 46249 | BL6: 46251 | BM6: 46256 | BN6: 46258 | BO6: 46263 | BP6: 46265 | BQ6: 46270 | BR6: 46272 | BX6: TOTAAL | BY6: AANTAL RITTEN
C7: A-groep | D7: B-groep | E7: A-groep | F7: B-groep | I7: koolaard | L7: paas | M7: avondrit | O7: A groep | P7: B groep | T7: A groep | V7: weekend | W7: weeknd | X7: A-groep | Y7: B-groep | AC7: A en B | AE7: pinkster | AF7: avond | AG7: A groep | AH7: B groep | AI7: A groep | AJ7: B groep | AK7: Sijsele | AL7: flandrien | AM7: A groep | AN7: B groep | AQ7: A groep | AR7: B groep | AX7: A groep | AY7: B groep | BB7: B groep | BC7: A groep | BD7: A groep | BE7: B groep | BF7: A groep | BG7: b groep | BK7: extra | BM7: 10 jaar
C8: Openingsrit | I8: veel wind | L8: maandag | AC8: te samen | AE8: maandag | AL8: weertje | BF8: jvw classic | BG8: swaene | BM8: swaene
A9: 1 | B9: Beullens Stefaan | BM9: regen | BX9: =SUM(C9:BV9) -> 0 | BY9: =COUNTA(C9:BV9) -> 1
A10: 2 | B10: Bouve Philip | BX10: =SUM(C10:BV10) -> 0 | BY10: =COUNTA(C10:BV10) -> 0
A11: 3 | B11: Calleeuw Joeri | AO11: 72 | BM11: 72 | BX11: =SUM(C11:BV11) -> 144 | BY11: =COUNTA(C11:BV11) -> 2
A12: 4 | B12: Carette Nico | D12: 71 | F12: 62 | G12: 84 | H12: 74 | J12: 57 | N12: 89 | P12: 63 | V12: 115 | W12: 120 | AA12: 58 | AD12: 96 | AN12: 75 | AO12: 72 | AR12: 75 | AS12: 85 | BG12: 75 | BR12: 65 | BX12: =SUM(C12:BV12) -> 1336 | BY12: =COUNTA(C12:BV12) -> 17
A13: 5 | B13: Casteleyn Geert | BX13: =SUM(C13:BV13) -> 0 | BY13: =COUNTA(C13:BV13) -> 0
A14: 6 | B14: Cobbaert Dries | C14: 55 | AR14: 75 | BJ14: 75 | BX14: =SUM(C14:BV14) -> 205 | BY14: =COUNTA(C14:BV14) -> 3
A15: 7 | B15: Cobbaert Tom | C15: 55 | G15: 84 | K15: 91 | S15: 100 | AD15: 96 | AG15: 91 | AK15: 106 | AT15: 95 | BI15: 105 | BK15: 133 | BN15: 70 | BO15: 91 | BR15: 65 | BX15: =SUM(C15:BV15) -> 1182 | BY15: =COUNTA(C15:BV15) -> 13
A16: 8 | B16: De Buck Kristof | C16: 55 | E16: 85 | K16: 91 | L16: 115 | S16: 100 | T16: 72 | V16: 115 | W16: 135 | X16: 58 | Z16: 97 | AD16: 96 | AE16: 139 | AG16: 91 | AI16: 75 | AM16: 97 | AO16: 72 | AP16: 95 | AQ16: 75 | AT16: 95 | AU16: 75 | AV16: 105 | AX16: 105 | BA16: 145 | BC16: 104 | BE16: 75 | BF16: 115 | BH16: 74 | BO16: 91 | BQ16: 105 | BR16: 65 | BX16: =SUM(C16:BV16) -> 2817 | BY16: =COUNTA(C16:BV16) -> 30
A17: 9 | B17: De Laere Benoit | I17: 125 | K17: 91 | N17: 89 | O17: 61 | S17: 100 | T17: 72 | V17: 115 | W17: 135 | AD17: 96 | AE17: 139 | AI17: 75 | AQ17: 75 | AT17: 95 | AU17: 75 | AV17: 105 | BC17: 104 | BH17: 74 | BK17: 133 | BL17: 72 | BO17: 91 | BP17: 78 | BQ17: 105 | BX17: =SUM(C17:BV17) -> 2105 | BY17: =COUNTA(C17:BV17) -> 22
A18: 10 | B18: De Meester Eveline | D18: 60 | Z18: 97 | BX18: =SUM(C18:BV18) -> 157 | BY18: =COUNTA(C18:BV18) -> 2
A19: 11 | B19: De Roo Jean paul | D19: 71 | E19: 85 | G19: 84 | J19: 57 | K19: 91 | L19: 115 | M19: 72 | N19: 89 | U19: 62 | V19: 115 | W19: 120 | Y19: 63 | AC19: 66 | AE19: 139 | AG19: 91 | AK19: 106 | AM19: 97 | AP19: 95 | AY19: 105 | BC19: 104 | BE19: 75 | BI19: 105 | BJ19: 75 | BL19: 72 | BM19: 72 | BN19: 70 | BO19: 91 | BQ19: 105 | BX19: =SUM(C19:BV19) -> 2492 | BY19: =COUNTA(C19:BV19) -> 28
A20: 12 | B20: Debourse Philippe | G20: 84 | S20: 100 | AM20: 97 | AP20: 95 | AS20: 85 | AW20: 74 | AX20: 105 | BM20: 72 | BO20: 91 | BQ20: 105 | BX20: =SUM(C20:BV20) -> 908 | BY20: =COUNTA(C20:BV20) -> 10
A21: 13 | B21: Demaré Koen | M21: 72 | P21: 63 | R21: 68 | Y21: 63 | AC21: 66 | AF21: 112 | AJ21: 75 | AL21: 88 | AR21: 75 | AU21: 75 | AW21: 74 | BE21: 75 | BH21: 74 | BJ21: 75 | BL21: 72 | BP21: 78 | BR21: 65 | BX21: =SUM(C21:BV21) -> 1270 | BY21: =COUNTA(C21:BV21) -> 17
A22: 14 | B22: Denijs Ivo | E22: 60 | AC22: 66 | AD22: 96 | AG22: 91 | AJ22: 75 | AV22: 105 | AW22: 74 | AX22: 105 | BC22: 104 | BF22: 115 | BI22: 105 | BQ22: 105 | BX22: =SUM(C22:BV22) -> 1101 | BY22: =COUNTA(C22:BV22) -> 12
A23: 15 | B23: Deprez Lennerd | P23: 63 | U23: 62 | Y23: 63 | AJ23: 75 | AR23: 75 | AU23: 75 | BE23: 75 | BJ23: 75 | BL23: 72 | BN23: 70 | BP23: 78 | BX23: =SUM(C23:BV23) -> 783 | BY23: =COUNTA(C23:BV23) -> 11
A24: 16 | B24: D'hondt Geert | D24: 52 | F24: 62 | P24: 63 | V24: 98 | W24: 115 | AH24: 80 | AN24: 75 | AR24: 60 | AT24: 74 | BB24: 78 | BG24: 75 | BM24: 72 | BX24: =SUM(C24:BV24) -> 904 | BY24: =COUNTA(C24:BV24) -> 12
A25: 17 | B25: Dildick Wesley | C25: 55 | E25: 85 | G25: 84 | H25: 95 | I25: 125 | J25: 57 | K25: 91 | L25: 115 | N25: 89 | P25: 63 | R25: 68 | S25: 100 | U25: 62 | V25: 115 | W25: 135 | Y25: 63 | Z25: 97 | AA25: 58 | AC25: 66 | AD25: 96 | AE25: 139 | AG25: 91 | AJ25: 75 | AK25: 106 | AM25: 97 | AO25: 72 | AP25: 95 | AR25: 75 | AT25: 95 | AU25: 75 | AV25: 105 | AX25: 105 | BA25: 145 | BC25: 104 | BE25: 75 | BH25: 74 | BJ25: 75 | BK25: 133 | BL25: 72 | BN25: 70 | BQ25: 105 | BR25: 65 | BX25: =SUM(C25:BV25) -> 3767 | BY25: =COUNTA(C25:BV25) -> 42
A26: 18 | B26: Doom Jason | T26: 72 | X26: 58 | AM26: 97 | BX26: =SUM(C26:BV26) -> 227 | BY26: =COUNTA(C26:BV26) -> 3
A27: 19 | B27: Duron Frank | BX27: =SUM(C27:BV27) -> 0 | BY27: =COUNTA(C27:BV27) -> 0
A28: 20 | B28: Duron Mauro | AU28: 75 | BE28: 75 | BH28: 74 | BX28: =SUM(C28:BV28) -> 224 | BY28: =COUNTA(C28:BV28) -> 3
A29: 21 | B29: Dutoict Jean-Pierre | BX29: =SUM(C29:BV29) -> 0 | BY29: =COUNTA(C29:BV29) -> 0
A30: 22 | B30: Goderis Steven | C30: 55 | H30: 95 | L30: 115 | V30: 115 | W30: 135 | AD30: 96 | AR30: 75 | AV30: 105 | BK30: 133 | BL30: 72 | BP30: 78 | BQ30: 105 | BX30: =SUM(C30:BV30) -> 1179 | BY30: =COUNTA(C30:BV30) -> 12
A31: 23 | B31: Haegeman Marc | E31: 85 | BB31: 78 | BL31: 72 | BM31: 72 | BN31: 70 | BX31: =SUM(C31:BV31) -> 377 | BY31: =COUNTA(C31:BV31) -> 5
A32: 24 | B32: Heindryckx Geert | G32: 84 | H32: 95 | I32: 125 | J32: 57 | N32: 89 | Q32: 87 | BX32: =SUM(C32:BV32) -> 537 | BY32: =COUNTA(C32:BV32) -> 6
A33: 25 | B33: Horzenberger Franz | E33: 85 | J33: 57 | K33: 91 | Q33: 87 | V33: 115 | W33: 135 | AM33: 97 | AS33: 85 | AV33: 105 | AX33: 105 | BA33: 145 | BK33: 133 | BL33: 72 | BM33: 72 | BN33: 70 | BR33: 65 | BX33: =SUM(C33:BV33) -> 1519 | BY33: =COUNTA(C33:BV33) -> 16
A34: 26 | B34: Huys Kenny | E34: 85 | H34: 95 | J34: 57 | S34: 100 | T34: 72 | X34: 58 | BX34: =SUM(C34:BV34) -> 467 | BY34: =COUNTA(C34:BV34) -> 6
A35: 27 | B35: Jonckheere Peter | D35: 71 | E35: 85 | G35: 84 | K35: 91 | L35: 115 | N35: 89 | S35: 100 | AD35: 96 | AP35: 95 | AT35: 95 | BI35: 105 | BK35: 133 | BM35: 72 | BQ35: 105 | BX35: =SUM(C35:BV35) -> 1336 | BY35: =COUNTA(C35:BV35) -> 14
A36: 28 | B36: Koenraads Hans | O36: 61 | BX36: =SUM(C36:BV36) -> 61 | BY36: =COUNTA(C36:BV36) -> 1
A37: 29 | B37: Laridon Bjorn | D37: 71 | E37: 85 | G37: 84 | H37: 95 | K37: 91 | L37: 115 | N37: 89 | P37: 63 | Q37: 87 | R37: 68 | U37: 62 | V37: 98 | W37: 135 | Y37: 63 | Z37: 97 | AC37: 66 | AD37: 96 | AJ37: 75 | AL37: 88 | AO37: 72 | AR37: 75 | AT37: 95 | AW37: 74 | AX37: 105 | BA37: 145 | BC37: 104 | BE37: 75 | BI37: 105 | BK37: 133 | BL37: 72 | BN37: 70 | BO37: 91 | BP37: 78 | BR37: 65 | BX37: =SUM(C37:BV37) -> 2987 | BY37: =COUNTA(C37:BV37) -> 34
A38: 30 | B38: Lestabel Edwin | C38: 55 | G38: 84 | H38: 95 | I38: 125 | J38: 57 | K38: 91 | L38: 115 | N38: 89 | P38: 63 | Q38: 87 | R38: 68 | U38: 62 | V38: 115 | W38: 135 | Z38: 97 | AO38: 72 | AP38: 95 | AR38: 75 | AT38: 95 | AU38: 75 | AW38: 74 | AX38: 105 | AZ38: 75 | BC38: 104 | BE38: 75 | BI38: 105 | BJ38: 75 | BK38: 133 | BL38: 72 | BM38: 72 | BO38: 91 | BX38: =SUM(C38:BV38) -> 2731 | BY38: =COUNTA(C38:BV38) -> 31
A39: 31 | B39: Maes Dirk | C39: 55 | E39: 85 | G39: 84 | I39: 125 | J39: 57 | O39: 61 | S39: 100 | T39: 72 | X39: 58 | AA39: 58 | AB39: 91 | AD39: 96 | AG39: 91 | AI39: 75 | AL39: 88 | AP39: 95 | AQ39: 75 | AS39: 85 | AU39: 75 | AW39: 74 | AX39: 105 | BC39: 104 | BD39: 75 | BH39: 74 | BI39: 105 | BJ39: 75 | BK39: 133 | BL39: 72 | BM39: 72 | BN39: 70 | BO39: 91 | BP39: 78 | BQ39: 105 | BR39: 65 | BX39: =SUM(C39:BV39) -> 2824 | BY39: =COUNTA(C39:BV39) -> 34
A40: 32 | B40: Messens Serge | BB40: 78 | BI40: 105 | BX40: =SUM(C40:BV40) -> 183 | BY40: =COUNTA(C40:BV40) -> 2
A41: 33 | B41: Museeuw Eddy | C41: 55 | BX41: =SUM(C41:BV41) -> 55 | BY41: =COUNTA(C41:BV41) -> 1
A42: 34 | B42: Muyllaert Clement | D42: 71 | E42: 85 | G42: 84 | I42: 125 | J42: 57 | K42: 91 | L42: 115 | N42: 89 | P42: 63 | R42: 68 | S42: 100 | U42: 62 | V42: 115 | W42: 135 | Y42: 63 | Z42: 97 | AB42: 91 | AC42: 66 | AD42: 96 | AE42: 139 | AG42: 91 | AJ42: 75 | AK42: 106 | AP42: 95 | AV42: 105 | AW42: 74 | AX42: 105 | BA42: 145 | BC42: 104 | BE42: 75 | BF42: 115 | BI42: 105 | BK42: 133 | BL42: 72 | BM42: 72 | BO42: 91 | BQ42: 105 | BX42: =SUM(C42:BV42) -> 3480 | BY42: =COUNTA(C42:BV42) -> 37
A43: 35 | B43: Naessens Stijn | D43: 52 | F43: 62 | J43: 57 | N43: 89 | V43: 98 | W43: 115 | Y43: 63 | AD43: 96 | AH43: 80 | AJ43: 75 | AN43: 75 | AP43: 95 | AR43: 75 | AT43: 95 | AU43: 75 | BC43: 104 | BG43: 75 | BH43: 74 | BK43: 133 | BM43: 72 | BQ43: 105 | BX43: =SUM(C43:BV43) -> 1765 | BY43: =COUNTA(C43:BV43) -> 21
A44: 36 | B44: Popelier Dinny | C44: 55 | H44: 95 | I44: 125 | K44: 91 | O44: 61 | S44: 100 | V44: 115 | W44: 135 | AI44: 75 | AT44: 95 | AV44: 105 | BC44: 104 | BD44: 75 | BI44: 105 | BM44: 72 | BX44: =SUM(C44:BV44) -> 1408 | BY44: =COUNTA(C44:BV44) -> 15
A45: 37 | B45: Sweetlove Woody | C45: 55 | R45: 68 | AO45: 72 | AP45: 95 | BM45: 72 | BX45: =SUM(C45:BV45) -> 362 | BY45: =COUNTA(C45:BV45) -> 5
A46: 38 | B46: Tratsaert Parcival | H46: 74 | J46: 57 | L46: 115 | N46: 89 | P46: 63 | Q46: 87 | S46: 100 | U46: 69 | V46: 98 | W46: 120 | AC46: 66 | AD46: 96 | AG46: 91 | AJ46: 75 | AN46: 75 | AP46: 95 | AR46: 75 | BI46: 105 | BM46: 72 | BN46: 70 | BP46: 78 | BR46: 65 | BX46: =SUM(C46:BV46) -> 1835 | BY46: =COUNTA(C46:BV46) -> 22
A47: 39 | B47: Van Lierop Wim | H47: 95 | K47: 91 | S47: 100 | Z47: 97 | AB47: 91 | AD47: 96 | AT47: 95 | AV47: 105 | BX47: =SUM(C47:BV47) -> 770 | BY47: =COUNTA(C47:BV47) -> 8
A48: 40 | B48: Van Tassel Gerben | D48: 71 | F48: 62 | G48: 84 | H48: 74 | J48: 57 | K48: 91 | V48: 115 | W48: 120 | AC48: 66 | AE48: 139 | AG48: 91 | AI48: 75 | AN48: 75 | AO48: 72 | BG48: 75 | BI48: 105 | BQ48: 105 | BR48: 65 | BX48: =SUM(C48:BV48) -> 1542 | BY48: =COUNTA(C48:BV48) -> 18
A49: 41 | B49: Van Wemmel Michel | T49: 72 | X49: 58 | Z49: 97 | AC49: 66 | AD49: 96 | AE49: 139 | AI49: 75 | AQ49: 75 | AU49: 75 | BD49: 75 | BJ49: 75 | BL49: 72 | BR49: 65 | BX49: =SUM(C49:BV49) -> 1040 | BY49: =COUNTA(C49:BV49) -> 13
A50: 42 | B50: Vandenbussche Michael | C50: 55 | P50: 63 | R50: 68 | U50: 69 | V50: 115 | W50: 135 | Y50: 63 | AA50: 58 | AO50: 72 | BC50: 104 | BN50: 70 | BP50: 78 | BR50: 65 | BX50: =SUM(C50:BV50) -> 1015 | BY50: =COUNTA(C50:BV50) -> 13
A51: 43 | B51: Vanderostyne Dave | BQ51: 105 | BX51: =SUM(C51:BV51) -> 105 | BY51: =COUNTA(C51:BV51) -> 1
A52: 44 | B52: Vanderostyne Rudy | C52: 55 | E52: 85 | G52: 84 | H52: 95 | K52: 91 | S52: 100 | Z52: 97 | AD52: 96 | AG52: 91 | AM52: 97 | AP52: 95 | AX52: 105 | BC52: 104 | BI52: 105 | BM52: 72 | BO52: 91 | BQ52: 105 | BX52: =SUM(C52:BV52) -> 1568 | BY52: =COUNTA(C52:BV52) -> 17
A53: 45 | B53: Vanhaecke Kurt | C53: 55 | L53: 115 | O53: 61 | AE53: 139 | AG53: 91 | AS53: 85 | AU53: 75 | AV53: 105 | AX53: 105 | BE53: 75 | BK53: 133 | BX53: =SUM(C53:BV53) -> 1039 | BY53: =COUNTA(C53:BV53) -> 11
A54: 46 | B54: Vantyghem Stefaan | P54: 63 | R54: 68 | U54: 69 | AR54: 75 | AU54: 75 | BX54: =SUM(C54:BV54) -> 350 | BY54: =COUNTA(C54:BV54) -> 5
A55: 47 | B55: Verhaeghe Dirk | BX55: =SUM(C55:BV55) -> 0 | BY55: =COUNTA(C55:BV55) -> 0
A56: 48 | B56: Vermote Marc | J56: 57 | N56: 52 | P56: 63 | AL56: 88 | BJ56: 75 | BX56: =SUM(C56:BV56) -> 335 | BY56: =COUNTA(C56:BV56) -> 5
A57: 49 | B57: Voet Sabine | E57: 60 | G57: 84 | H57: 74 | L57: 100 | S57: 68 | V57: 115 | W57: 115 | Z57: 97 | AE57: 139 | AH57: 80 | AJ57: 75 | AK57: 75 | AY57: 105 | BA57: 145 | BB57: 78 | BF57: 115 | BI57: 105 | BM57: 72 | BO57: 91 | BQ57: 105 | BX57: =SUM(C57:BV57) -> 1898 | BY57: =COUNTA(C57:BV57) -> 20
A58: 50 | B58: Vynck Peter | C58: 55 | E58: 60 | L58: 115 | R58: 68 | AV58: 105 | AX58: 105 | BA58: 145 | BE58: 75 | BM58: 72 | BP58: 78 | BQ58: 105 | BR58: 65 | BX58: =SUM(C58:BV58) -> 1048 | BY58: =COUNTA(C58:BV58) -> 12
A59: 51 | B59: Willaert Jo | C59: 55 | E59: 85 | G59: 84 | H59: 95 | J59: 57 | L59: 115 | N59: 89 | O59: 61 | R59: 68 | T59: 72 | V59: 115 | W59: 135 | X59: 58 | Z59: 97 | AC59: 66 | AD59: 96 | AE59: 139 | AG59: 91 | AK59: 106 | AO59: 72 | AP59: 95 | AR59: 75 | AT59: 95 | AU59: 75 | BA59: 145 | BC59: 104 | BE59: 75 | BF59: 115 | BH59: 74 | BI59: 105 | BK59: 133 | BL59: 72 | BM59: 72 | BN59: 70 | BO59: 91 | BP59: 78 | BQ59: 105 | BR59: 65 | BX59: =SUM(C59:BV59) -> 3400 | BY59: =COUNTA(C59:BV59) -> 38

Sheet Totaal
E2: Totaal aantal kilometers | G2: Rangschikking KM | I2: Totaal aantal Ritten | K2: Rangschikking Ritten
A4: =Ritten!A9 -> 1 | B4: =Ritten!B9 -> Beullens Stefaan | E4: =Ritten!BX9 -> 0 | G4: =RANK(E4,$E$4:$E$54) -> 46 | I4: =Ritten!BY9 -> 1 | K4: =RANK(I4,$I$4:$I$54) -> 43
A5: =Ritten!A10 -> 2 | B5: =Ritten!B10 -> Bouve Philip | E5: =Ritten!BX10 -> 0 | G5: =RANK(E5,$E$4:$E$54) -> 46 | I5: =Ritten!BY10 -> 0 | K5: =RANK(I5,$I$4:$I$54) -> 47
A6: =Ritten!A11 -> 3 | B6: =Ritten!B11 -> Calleeuw Joeri | E6: =Ritten!BX11 -> 144 | G6: =RANK(E6,$E$4:$E$54) -> 42 | I6: =Ritten!BY11 -> 2 | K6: =RANK(I6,$I$4:$I$54) -> 40
A7: =Ritten!A12 -> 4 | B7: =Ritten!B12 -> Carette Nico | E7: =Ritten!BX12 -> 1336 | G7: =RANK(E7,$E$4:$E$54) -> 17 | I7: =Ritten!BY12 -> 17 | K7: =RANK(I7,$I$4:$I$54) -> 14
A8: =Ritten!A13 -> 5 | B8: =Ritten!B13 -> Casteleyn Geert | E8: =Ritten!BX13 -> 0 | G8: =RANK(E8,$E$4:$E$54) -> 46 | I8: =Ritten!BY13 -> 0 | K8: =RANK(I8,$I$4:$I$54) -> 47
A9: =Ritten!A14 -> 6 | B9: =Ritten!B14 -> Cobbaert Dries | E9: =Ritten!BX14 -> 205 | G9: =RANK(E9,$E$4:$E$54) -> 39 | I9: =Ritten!BY14 -> 3 | K9: =RANK(I9,$I$4:$I$54) -> 37
A10: =Ritten!A15 -> 7 | B10: =Ritten!B15 -> Cobbaert Tom | E10: =Ritten!BX15 -> 1182 | G10: =RANK(E10,$E$4:$E$54) -> 20 | I10: =Ritten!BY15 -> 13 | K10: =RANK(I10,$I$4:$I$54) -> 20
A11: =Ritten!A16 -> 8 | B11: =Ritten!B16 -> De Buck Kristof | E11: =Ritten!BX16 -> 2817 | G11: =RANK(E11,$E$4:$E$54) -> 6 | I11: =Ritten!BY16 -> 30 | K11: =RANK(I11,$I$4:$I$54) -> 7
A12: =Ritten!A17 -> 9 | B12: =Ritten!B17 -> De Laere Benoit | E12: =Ritten!BX17 -> 2105 | G12: =RANK(E12,$E$4:$E$54) -> 9 | I12: =Ritten!BY17 -> 22 | K12: =RANK(I12,$I$4:$I$54) -> 9
A13: =Ritten!A18 -> 10 | B13: =Ritten!B18 -> De Meester Eveline | E13: =Ritten!BX18 -> 157 | G13: =RANK(E13,$E$4:$E$54) -> 41 | I13: =Ritten!BY18 -> 2 | K13: =RANK(I13,$I$4:$I$54) -> 40
A14: =Ritten!A19 -> 11 | B14: =Ritten!B19 -> De Roo Jean paul | E14: =Ritten!BX19 -> 2492 | G14: =RANK(E14,$E$4:$E$54) -> 8 | I14: =Ritten!BY19 -> 28 | K14: =RANK(I14,$I$4:$I$54) -> 8
A15: =Ritten!A20 -> 12 | B15: =Ritten!B20 -> Debourse Philippe | E15: =Ritten!BX20 -> 908 | G15: =RANK(E15,$E$4:$E$54) -> 27 | I15: =Ritten!BY20 -> 10 | K15: =RANK(I15,$I$4:$I$54) -> 29
... A54: =Ritten!A59 -> 51 | B54: =Ritten!B59 -> Willaert Jo | E54: =Ritten!BX59 -> 3400 | G54: =RANK(E54,$E$4:$E$54) -> 3 | I54: =Ritten!BY59 -> 38 | K54: =RANK(I54,$I$4:$I$54) -> 2
